BEGIN:VCALENDAR
PRODID:-//eluceo/ical//2.0/EN
VERSION:2.0
CALSCALE:GREGORIAN
BEGIN:VEVENT
UID:0fca2a71492d49d7a6caaee8c2858b5f
DTSTAMP:20260421T082227Z
SUMMARY:Lunch - ABGESAGT
DESCRIPTION:
URL:https://rcbar.ch/es/agenda/show/102885
DTSTART;TZID=Europe/Zurich:20200507T120000
DTEND;TZID=Europe/Zurich:20200507T133000
LOCATION:Restaurant Chämihütte\, Untersiggenthal
CATEGORIES:Rotary
END:VEVENT
BEGIN:VTIMEZONE
TZID:Europe/Zurich
BEGIN:DAYLIGHT
DTSTART:20200507T120000
TZNAME:CEST
TZOFFSETTO:+0200
TZOFFSETFROM:+0200
END:DAYLIGHT
END:VTIMEZONE
END:VCALENDAR
