BEGIN:VCALENDAR
PRODID:-//eluceo/ical//2.0/EN
VERSION:2.0
CALSCALE:GREGORIAN
BEGIN:VEVENT
UID:33c58b8bd83479a49de8504130408b5c
DTSTAMP:20260421T192601Z
SUMMARY:Lunch
DESCRIPTION:
URL:https://rcbar.ch/es/agenda/show/118648
DTSTART;TZID=Europe/Zurich:20201203T000000
DTEND;TZID=Europe/Zurich:20201203T000000
LOCATION:Rest. Chämihütte\, Untersiggenthal
CATEGORIES:Rotary
END:VEVENT
BEGIN:VTIMEZONE
TZID:Europe/Zurich
BEGIN:STANDARD
DTSTART:20201203T000000
TZNAME:CET
TZOFFSETTO:+0100
TZOFFSETFROM:+0100
END:STANDARD
END:VTIMEZONE
END:VCALENDAR
