BEGIN:VCALENDAR
PRODID:-//eluceo/ical//2.0/EN
VERSION:2.0
CALSCALE:GREGORIAN
BEGIN:VEVENT
UID:fb8ab497000eb1fe987d3fa38d22c426
DTSTAMP:20260419T135519Z
SUMMARY:Apéro 
DESCRIPTION:
URL:https://rcbar.ch/es/agenda/show/118726
DTSTART;TZID=Europe/Zurich:20201209T000000
DTEND;TZID=Europe/Zurich:20201209T000000
LOCATION:Restaurant Trattoria\, Brugg\, Apéro um 18:00 Uhr
CATEGORIES:Rotary
END:VEVENT
BEGIN:VTIMEZONE
TZID:Europe/Zurich
BEGIN:STANDARD
DTSTART:20201209T000000
TZNAME:CET
TZOFFSETTO:+0100
TZOFFSETFROM:+0100
END:STANDARD
END:VTIMEZONE
END:VCALENDAR
